BEGIN:VCALENDAR
VERSION:2.0
PRODID:-//C21 Canada - ECPv4.1.0.1//NONSGML v1.0//EN
CALSCALE:GREGORIAN
METHOD:PUBLISH
X-WR-CALNAME:C21 Canada
X-ORIGINAL-URL:https://old.c21canada.org
X-WR-CALDESC:Events for C21 Canada
BEGIN:VEVENT
DTSTART;TZID="UTC+0":20130814T080000
DTEND;TZID="UTC+0":20130816T170000
DTSTAMP:20260424T043123
CREATED:20130719T155541
LAST-MODIFIED:20130719T155541
UID:1350-1376467200-1376672400@old.c21canada.org
SUMMARY:Washington Interactive Learning Technologies Conference
DESCRIPTION:In government\, industry\, and educational institutions the need to reduce costs\, improve personnel performance\, increase organizational efficiency\, and enhance product or service quality is a critical management responsibility in an era of organizational downsizing and heightened competitive pressures. A way to address these issues is through the application of the latest technologies for education and training systems\, job performance improvement systems\, and knowledge management systems.
URL:https://old.c21canada.org/event/washington-interactive-learning-technologies-conference/
LOCATION:Reston\, VA\, United States
END:VEVENT
END:VCALENDAR