BEGIN:VCALENDAR
VERSION:2.0
PRODID:-//C21 Canada - ECPv4.1.0.1//NONSGML v1.0//EN
CALSCALE:GREGORIAN
METHOD:PUBLISH
X-WR-CALNAME:C21 Canada
X-ORIGINAL-URL:https://old.c21canada.org
X-WR-CALDESC:Events for C21 Canada
BEGIN:VEVENT
DTSTART;TZID="UTC+0":20121115T080000
DTEND;TZID="UTC+0":20121117T170000
DTSTAMP:20260423T200057
CREATED:20120921T163020
LAST-MODIFIED:20120921T163020
UID:698-1352966400-1353171600@old.c21canada.org
SUMMARY:STAO2012 
DESCRIPTION:We currently teach students who are hooked into information technology: their heads are bent reading and typing while their ears are plugged with favourite tunes! And why is this not good? The answer is simply because our real 3D world is full of wonderful science.
URL:https://old.c21canada.org/event/stao2012/
LOCATION:Toronto\, Select a Country:
END:VEVENT
END:VCALENDAR