BEGIN:VCALENDAR
VERSION:2.0
PRODID:-//C21 Canada - ECPv4.1.0.1//NONSGML v1.0//EN
CALSCALE:GREGORIAN
METHOD:PUBLISH
X-WR-CALNAME:C21 Canada
X-ORIGINAL-URL:https://old.c21canada.org
X-WR-CALDESC:Events for C21 Canada
BEGIN:VEVENT
DTSTART;TZID="UTC+0":20120925T130000
DTEND;TZID="UTC+0":20120925T150000
DTSTAMP:20260424T045002
CREATED:20120919T124640
LAST-MODIFIED:20120919T124640
UID:695-1348578000-1348585200@old.c21canada.org
SUMMARY:P21 Webinar: Developing Transferable Knowledge & Skills in the 21st Century - What Does It Mean for 21st Century Skills?
DESCRIPTION:Please join P21\, EdLeader21\, and the National Research Council for an upcoming P21 webinar:\n\nNational Research Council's Education for Life and Work: Developing Transferable Knowledge and Skills in the 21st Century report released July 2012\, represents the strength and continued growth of 21st century skills movement. P21 has teamed up with NRC committee chair James Pellegrino to provide answers regarding the implications of this research for the 21st century skills community.\n\nJoin us next week on 9/25 at 1pm to learn:\n• Why this report is important to the 21st century skills movement\n• How the report can be used to strengthen support for 21st century skills in your school/district/community\n• How 21st century competencies are critical to preparing students for life and careers\n• Latest trends in 21st century skills\n\nPresenters include:\n• James Pellegrino\, Distinguished Professor in Psychology and Education and Co-Director of the Center for the Study of Learning\, Instruction and Teacher Development at the University of Illinois at Chicago\, NRC Committee Chair.\n• Frank Gallagher\, P21 Board Chair & Executive Director at Cable in the Classroom\n• Valerie Greenhill\, EdLeader21 Chief Learning Officer\n• Helen Soule\, P21 Interim Executive Director\n\nRegistration is free!\n\nWe look forward to your participation! If you have any questions\, please contact Kevin Wesolowski (kevin@p21.org)
URL:https://old.c21canada.org/event/p21-webinar-developing-transferable-knowledge-skills-in-the-21st-century-what-does-it-mean-for-21st-century-skills/
END:VEVENT
END:VCALENDAR