BEGIN:VCALENDAR
VERSION:2.0
PRODID:-//C21 Canada - ECPv4.1.0.1//NONSGML v1.0//EN
CALSCALE:GREGORIAN
METHOD:PUBLISH
X-WR-CALNAME:C21 Canada
X-ORIGINAL-URL:https://old.c21canada.org
X-WR-CALDESC:Events for C21 Canada
BEGIN:VEVENT
DTSTART;TZID="UTC+0":20131204T080000
DTEND;TZID="UTC+0":20131206T170000
DTSTAMP:20260425T001424
CREATED:20130719T161830
LAST-MODIFIED:20130719T162422
UID:1363-1386144000-1386349200@old.c21canada.org
SUMMARY:ONLINE EDUCA BERLIN
DESCRIPTION:ONLINE EDUCA BERLIN is the largest global conference on technology supported learning and training for the corporate\, education and public service sectors.
URL:https://old.c21canada.org/event/online-educa-berlin/
LOCATION:Berlin\, Germany
END:VEVENT
END:VCALENDAR