BEGIN:VCALENDAR
VERSION:2.0
PRODID:-//C21 Canada - ECPv4.1.0.1//NONSGML v1.0//EN
CALSCALE:GREGORIAN
METHOD:PUBLISH
X-WR-CALNAME:C21 Canada
X-ORIGINAL-URL:https://old.c21canada.org
X-WR-CALDESC:Events for C21 Canada
BEGIN:VEVENT
DTSTART;TZID="UTC+0":20121012T083000
DTEND;TZID="UTC+0":20121012T103000
DTSTAMP:20260424T005847
CREATED:20120821T163210
LAST-MODIFIED:20120821T164510
UID:677-1350030600-1350037800@old.c21canada.org
SUMMARY:Leading 21st Century Teaching and Learning
DESCRIPTION:Join the conversation about the newest developments in ICT. Our distinguished panel will provide their perspectives and in small group discussions\, we will share ideas and explore issues that arise with the implementation of new ICT trends.\n\nCIO’s\, Superintendents\, Senior Managers and Consultants/Coordinators in ICT\, and Principals will all enjoy this lively session.\n\nOnline registration will be available early September. Visit RTT Events\n\n 
URL:https://old.c21canada.org/event/leading-21st-century-teaching-and-learning/
LOCATION:Toronto\, Ontario\, Canada
END:VEVENT
END:VCALENDAR