BEGIN:VCALENDAR
VERSION:2.0
PRODID:-//C21 Canada - ECPv4.1.0.1//NONSGML v1.0//EN
CALSCALE:GREGORIAN
METHOD:PUBLISH
X-WR-CALNAME:C21 Canada
X-ORIGINAL-URL:https://old.c21canada.org
X-WR-CALDESC:Events for C21 Canada
BEGIN:VEVENT
DTSTART;TZID="UTC+0":20130809T080000
DTEND;TZID="UTC+0":20130810T170000
DTSTAMP:20260424T005219
CREATED:20130719T155208
LAST-MODIFIED:20130719T155313
UID:1347-1376035200-1376154000@old.c21canada.org
SUMMARY:Global Conference on Education
DESCRIPTION:The aim of GCE is to provide an opportunity for academicians and professionals from various educational fields with cross-disciplinary interests to bridge the knowledge gap\, promote research esteem and the evolution of pedagogy. The GCE invites research papers that encompass conceptual analysis\, design implementation and performance evaluation.
URL:https://old.c21canada.org/event/global-conference-on-education/
LOCATION:Ontario\, CA\, United States
END:VEVENT
END:VCALENDAR