BEGIN:VCALENDAR
VERSION:2.0
PRODID:-//C21 Canada - ECPv4.1.0.1//NONSGML v1.0//EN
CALSCALE:GREGORIAN
METHOD:PUBLISH
X-WR-CALNAME:C21 Canada
X-ORIGINAL-URL:https://old.c21canada.org
X-WR-CALDESC:Events for C21 Canada
BEGIN:VEVENT
DTSTART;TZID="UTC+0":20130819T080000
DTEND;TZID="UTC+0":20130822T170000
DTSTAMP:20260424T061544
CREATED:20130719T170257
LAST-MODIFIED:20130719T170257
UID:1370-1376899200-1377190800@old.c21canada.org
SUMMARY:Explore Mathemagics
DESCRIPTION:Explore Mathemagics is a mathematics day camp for high school girls interested in math and science who have curiosity for exploring new ideas. Preference will be given to girls entering 10th and 11th grades in September\, 2013\, but if space allows we are happy to accept other interested students as well.
URL:https://old.c21canada.org/event/explore-mathemagics/
LOCATION:Kingston\, Ontario\, Canada
END:VEVENT
END:VCALENDAR