BEGIN:VCALENDAR
VERSION:2.0
PRODID:-//C21 Canada - ECPv4.1.0.1//NONSGML v1.0//EN
CALSCALE:GREGORIAN
METHOD:PUBLISH
X-WR-CALNAME:C21 Canada
X-ORIGINAL-URL:https://old.c21canada.org
X-WR-CALDESC:Events for C21 Canada
BEGIN:VEVENT
DTSTART;TZID="UTC+0":20131016T080000
DTEND;TZID="UTC+0":20131019T170000
DTSTAMP:20260424T151400
CREATED:20130719T170600
LAST-MODIFIED:20130719T170600
UID:1373-1381910400-1382202000@old.c21canada.org
SUMMARY:ERDI Fall 2013
DESCRIPTION:For more information\, please visit the ERDI Fall 2013 website.
URL:https://old.c21canada.org/event/erdi-fall-2013/
LOCATION:Montebello\, Quebec\, Canada
END:VEVENT
END:VCALENDAR