BEGIN:VCALENDAR
VERSION:2.0
PRODID:-//C21 Canada - ECPv4.1.0.1//NONSGML v1.0//EN
CALSCALE:GREGORIAN
METHOD:PUBLISH
X-WR-CALNAME:C21 Canada
X-ORIGINAL-URL:https://old.c21canada.org
X-WR-CALDESC:Events for C21 Canada
BEGIN:VEVENT
DTSTART;TZID="UTC+0":20130922T080000
DTEND;TZID="UTC+0":20130924T170000
DTSTAMP:20260424T092655
CREATED:20130719T160946
LAST-MODIFIED:20130719T160946
UID:1353-1379836800-1380042000@old.c21canada.org
SUMMARY:EdNET Insight
DESCRIPTION:The industry’s premiere networking event gives you unparalleled opportunities to exchange ideas and discuss market trends with industry stakeholders while forging new business relationships through productive networking.
URL:https://old.c21canada.org/event/ednet-insight/
LOCATION:Denver\, CO\, United States
END:VEVENT
END:VCALENDAR