BEGIN:VCALENDAR
VERSION:2.0
PRODID:-//C21 Canada - ECPv4.1.0.1//NONSGML v1.0//EN
CALSCALE:GREGORIAN
METHOD:PUBLISH
X-WR-CALNAME:C21 Canada
X-ORIGINAL-URL:https://old.c21canada.org
X-WR-CALDESC:Events for C21 Canada
BEGIN:VEVENT
DTSTART;VALUE=DATE:20131023
DTEND;VALUE=DATE:20131025
DTSTAMP:20260424T185431
CREATED:20130610
LAST-MODIFIED:20130610
UID:1293-1382486400-1382745599@old.c21canada.org
SUMMARY:ECOO Conference 2013
DESCRIPTION:ECOO is a voluntary organization for teachers\, by teachers. The breadth and scope of workshops make it the perfect destination for self-directed professional development.
URL:https://old.c21canada.org/event/ecoo-conference-2013/
LOCATION:Niagara\, Canada
END:VEVENT
END:VCALENDAR