BEGIN:VCALENDAR
VERSION:2.0
PRODID:-//C21 Canada - ECPv4.1.0.1//NONSGML v1.0//EN
CALSCALE:GREGORIAN
METHOD:PUBLISH
X-WR-CALNAME:C21 Canada
X-ORIGINAL-URL:https://old.c21canada.org
X-WR-CALDESC:Events for C21 Canada
BEGIN:VEVENT
DTSTART;TZID="UTC+0":20131117T080000
DTEND;TZID="UTC+0":20131120T170000
DTSTAMP:20260424T222832
CREATED:20130719T161449
LAST-MODIFIED:20130719T161449
UID:1357-1384675200-1384966800@old.c21canada.org
SUMMARY:CBIE-BCEI 2013
DESCRIPTION:Education for a Better World: Our Global Social Responsibility. What can we do\, as international education professionals\, to ensure that the education we provide supports the well-being of societies? How can we help develop global citizens who can shape a sustainable future? How can we make global learning a reality for our students\, our institutions\, ourselves?
URL:https://old.c21canada.org/event/cbie-bcei-2013/
LOCATION:Victoria\, British Columbia\, Canada
END:VEVENT
END:VCALENDAR