BEGIN:VCALENDAR
VERSION:2.0
PRODID:-//C21 Canada - ECPv4.1.0.1//NONSGML v1.0//EN
CALSCALE:GREGORIAN
METHOD:PUBLISH
X-WR-CALNAME:C21 Canada
X-ORIGINAL-URL:https://old.c21canada.org
X-WR-CALDESC:Events for C21 Canada
BEGIN:VEVENT
DTSTART;TZID="UTC+0":20131004T080000
DTEND;TZID="UTC+0":20131004T170000
DTSTAMP:20260424T132050
CREATED:20130912T180239
LAST-MODIFIED:20130912T180239
UID:1404-1380873600-1380906000@old.c21canada.org
SUMMARY:C21 Board Meeting
DESCRIPTION:
URL:https://old.c21canada.org/event/c21-board-meeting/
END:VEVENT
END:VCALENDAR