BEGIN:VCALENDAR
VERSION:2.0
PRODID:-//C21 Canada - ECPv4.1.0.1//NONSGML v1.0//EN
CALSCALE:GREGORIAN
METHOD:PUBLISH
X-WR-CALNAME:C21 Canada
X-ORIGINAL-URL:https://old.c21canada.org
X-WR-CALDESC:Events for C21 Canada
BEGIN:VEVENT
DTSTART;TZID="UTC+0":20130724T080000
DTEND;TZID="UTC+0":20130726T170000
DTSTAMP:20260423T231018
CREATED:20130719T152715
LAST-MODIFIED:20130719T152715
UID:1342-1374652800-1374858000@old.c21canada.org
SUMMARY:BLC 13
DESCRIPTION:At the Building Learning Communities Conference\, there is something for everyone. Our annual education conference\, held in downtown Boston\, Massachusetts\, brings together a diverse ensemble of keynote speakers and attendees to forge new relationships and strengthen existing ties for more meaningful teaching and learning enhanced by technology.
URL:https://old.c21canada.org/event/blc-13/
LOCATION:Boston\, MA\, United States
END:VEVENT
END:VCALENDAR