BEGIN:VCALENDAR
VERSION:2.0
PRODID:-//C21 Canada - ECPv4.1.0.1//NONSGML v1.0//EN
CALSCALE:GREGORIAN
METHOD:PUBLISH
X-WR-CALNAME:C21 Canada
X-ORIGINAL-URL:https://old.c21canada.org
X-WR-CALDESC:Events for C21 Canada
BEGIN:VEVENT
DTSTART;TZID="UTC+0":20121114T080000
DTEND;TZID="UTC+0":20121116T170000
DTSTAMP:20260423T213548
CREATED:20120821T204712
LAST-MODIFIED:20120821T204712
UID:684-1352880000-1353085200@old.c21canada.org
SUMMARY:Alberta Technology Leaders in Education
DESCRIPTION:This event has been hosted annually by Zone 5/6. Sessions will be technical in nature and focus.  Target audience is Technology Directors/Coordinators and technical staff from school jurisdictions.
URL:https://old.c21canada.org/event/alberta-technology-leaders-in-education/
LOCATION:Edmonton\, Alberta\, Canada
END:VEVENT
END:VCALENDAR