BEGIN:VCALENDAR
VERSION:2.0
PRODID:-//C21 Canada - ECPv4.1.0.1//NONSGML v1.0//EN
CALSCALE:GREGORIAN
METHOD:PUBLISH
X-WR-CALNAME:C21 Canada
X-ORIGINAL-URL:https://old.c21canada.org
X-WR-CALDESC:Events for C21 Canada
BEGIN:VEVENT
DTSTART;TZID="UTC+0":20121016T080000
DTEND;TZID="UTC+0":20121018T170000
DTSTAMP:20260423T231549
CREATED:20120821T203414
LAST-MODIFIED:20120821T203414
UID:681-1350374400-1350579600@old.c21canada.org
SUMMARY:21st Century Learning Leadership Forum
DESCRIPTION:Together with Founding Partners Cenovus Energy Inc. and CISCO Canada we will be exploring how to develop collaborative partnerships to create a vision for a “Learning Society”. Once again\, representatives from all levels of government\, from secondary and post-secondary schools\, from business\, and from a variety of community organizations – from across Canada and around the world – will join together to continue our collective journey as we explore the concept of 21st Century Learning.\n\nVisit 21centurylearning.ca for more information.
URL:https://old.c21canada.org/event/21st-century-learning-leadership-forum/
LOCATION:Banff\, Alberta\, Canada
END:VEVENT
END:VCALENDAR