BEGIN:VCALENDAR
VERSION:2.0
PRODID:-//C21 Canada - ECPv4.1.0.1//NONSGML v1.0//EN
CALSCALE:GREGORIAN
METHOD:PUBLISH
X-WR-CALNAME:C21 Canada
X-ORIGINAL-URL:https://old.c21canada.org
X-WR-CALDESC:Events for C21 Canada
BEGIN:VEVENT
DTSTART;TZID="UTC+0":20130510T080000
DTEND;TZID="UTC+0":20130510T140000
DTSTAMP:20260423T182011
CREATED:20130222T134351
LAST-MODIFIED:20130222T134511
UID:1197-1368172800-1368194400@old.c21canada.org
SUMMARY:Round Table on Technology 
DESCRIPTION:Join us for a day-long event that will focus on innovative leadership and the sharing of evidence-based practices that enhance student engagement and achievement.\n\nPresentations will include: exemplary classroom practices\, leadership in school-wide approaches to the use of 21st Century literacies\, the use of personal devices in\nthe classroom and policy development.\n\nAfternoon breakout sessions will provide participants with an opportunity to explore particular topics in more depth.\n\nThis interactive event\, highlighting local leadership experiences\, will be of particular interest to elementary and secondary school principals.\n\nBoard Teams and individuals with an interest in strategies to enhance 21st Century Literacies are also welcome!
URL:https://old.c21canada.org/event/1197/
LOCATION:207 Humber College Blvd.\, Toronto\, Ontario\, M9W 5L7\, Canada
END:VEVENT
END:VCALENDAR